BEGIN:VCALENDAR
VERSION:2.0
PRODID:-//Tukios.com/
BEGIN:VEVENT
UID:652f0c9b-92c7-4903-a0bb-0dcd5fcdbdc4@www.henkeclarson.com
DTSTAMP:20260424T205920Z
DTSTART:20260427T190000Z
DTEND:20260427T200000Z
SUMMARY:Burial
DESCRIPTION:
URL:https://www.henkeclarson.com/obituaries/myron-jenson
LOCATION:Milton Lawns Memorial Park 2200 Milton Avenue  Janesville WI 
	53545
GEO:42.7097849;-89.0022033
END:VEVENT
END:VCALENDAR