BEGIN:VCALENDAR
VERSION:2.0
PRODID:-//Tukios.com/
BEGIN:VEVENT
UID:80f03b0e-3077-4914-9036-4e0d66a78587@www.henkeclarson.com
DTSTAMP:20260424T210531Z
DTSTART:20260427T190000Z
DTEND:20260427T200000Z
SUMMARY:Graveside Service
DESCRIPTION:
URL:https://www.henkeclarson.com/obituaries/myron-jenson
LOCATION:Milton Lawns Memorial Park 2200 Milton Avenue  Janesville WI 
	53545
GEO:42.7097849;-89.0022033
END:VEVENT
END:VCALENDAR