BEGIN:VCALENDAR
VERSION:2.0
PRODID:-//Tukios.com/
BEGIN:VEVENT
UID:34196c40-9ca7-47d5-ac1c-7db0a1c54f17@www.henkeclarson.com
DTSTAMP:20260421T020843Z
DTSTART:20260428T160000Z
DTEND:20260428T170000Z
SUMMARY:Funeral Service
DESCRIPTION:
URL:https://www.henkeclarson.com/obituaries/karen-witzel
LOCATION:Henke-Clarson Funeral Home 1010 N Wright Rd  Janesville WI 53546
GEO:42.6967171;-88.9724633
END:VEVENT
END:VCALENDAR