BEGIN:VCALENDAR
VERSION:2.0
PRODID:-//Tukios.com/
BEGIN:VEVENT
UID:86a34609-98f9-45a2-a6c1-da80d5c8e2b9@www.henkeclarson.com
DTSTAMP:20260421T021527Z
DTSTART:20260428T143000Z
DTEND:20260428T160000Z
SUMMARY:Visitation
DESCRIPTION:
URL:https://www.henkeclarson.com/obituaries/karen-witzel
LOCATION:Henke-Clarson Funeral Home 1010 N Wright Rd  Janesville WI 53546
GEO:42.6967171;-88.9724633
END:VEVENT
END:VCALENDAR